BEGIN:VCALENDAR
VERSION:2.0
PRODID:-//Mandurah City Choral Society - ECPv6.15.20//NONSGML v1.0//EN
CALSCALE:GREGORIAN
METHOD:PUBLISH
X-ORIGINAL-URL:https://www.mandurahchoral.org.au
X-WR-CALDESC:Events for Mandurah City Choral Society
REFRESH-INTERVAL;VALUE=DURATION:PT1H
X-Robots-Tag:noindex
X-PUBLISHED-TTL:PT1H
BEGIN:VTIMEZONE
TZID:Australia/Perth
BEGIN:STANDARD
TZOFFSETFROM:+0800
TZOFFSETTO:+0800
TZNAME:AWST
DTSTART:20250101T000000
END:STANDARD
END:VTIMEZONE
BEGIN:VEVENT
DTSTART;TZID=Australia/Perth:20260628T143000
DTEND;TZID=Australia/Perth:20260628T163000
DTSTAMP:20260422T012708
CREATED:20260126T072945Z
LAST-MODIFIED:20260127T135214Z
UID:10371-1782657000-1782664200@www.mandurahchoral.org.au
SUMMARY:Gilbert & Sullivan
DESCRIPTION:Enjoy a fun filled romp through Gilbert & Sullivan’s topsy turvy musical world. \nMandurah Seniors and Community Centre 2:30pm.
URL:https://www.mandurahchoral.org.au/index.php/event/gilbert-sullivan/
LOCATION:Mandurah Seniors and Community Centre\, 41 Ormsby Terrace\, Mandurah\, WA\, 6210\, Australia
END:VEVENT
BEGIN:VEVENT
DTSTART;TZID=Australia/Perth:20261004T143000
DTEND;TZID=Australia/Perth:20261004T163000
DTSTAMP:20260422T012708
CREATED:20260126T073134Z
LAST-MODIFIED:20260126T073134Z
UID:10373-1791124200-1791131400@www.mandurahchoral.org.au
SUMMARY:Musical Pairings
DESCRIPTION:Enjoy musical pieces of of many different styles featuring the same name. \nMandurah Seniors and Community Centre 2:30pm.
URL:https://www.mandurahchoral.org.au/index.php/event/musical-pairings/
LOCATION:Mandurah Seniors and Community Centre\, 41 Ormsby Terrace\, Mandurah\, WA\, 6210\, Australia
END:VEVENT
BEGIN:VEVENT
DTSTART;TZID=Australia/Perth:20261213T143000
DTEND;TZID=Australia/Perth:20261213T163000
DTSTAMP:20260422T012708
CREATED:20260126T073359Z
LAST-MODIFIED:20260126T073359Z
UID:10375-1797172200-1797179400@www.mandurahchoral.org.au
SUMMARY:Christmas All Sorts
DESCRIPTION:Everything you want in a Christmas concert: a bit of Handel\, some of the old favourites with glorious harmonies\, and plenty of familiar tunes you can sing along to while our sopranos belt out the descants! \nChrist Church Mandurah | 2:30pm.
URL:https://www.mandurahchoral.org.au/index.php/event/christmas-all-sorts/
LOCATION:Christ’s Church Mandurah\, Sholl St\, Mandurah\, WA\, 6210\, Australia
END:VEVENT
END:VCALENDAR