BEGIN:VCALENDAR
VERSION:2.0
PRODID:-//Mandurah City Choral Society - ECPv6.15.20//NONSGML v1.0//EN
CALSCALE:GREGORIAN
METHOD:PUBLISH
X-WR-CALNAME:Mandurah City Choral Society
X-ORIGINAL-URL:https://www.mandurahchoral.org.au
X-WR-CALDESC:Events for Mandurah City Choral Society
REFRESH-INTERVAL;VALUE=DURATION:PT1H
X-Robots-Tag:noindex
X-PUBLISHED-TTL:PT1H
BEGIN:VTIMEZONE
TZID:Australia/Perth
BEGIN:STANDARD
TZOFFSETFROM:+0800
TZOFFSETTO:+0800
TZNAME:AWST
DTSTART:20190101T000000
END:STANDARD
END:VTIMEZONE
BEGIN:VEVENT
DTSTART;TZID=Australia/Perth:20241102T143000
DTEND;TZID=Australia/Perth:20241102T163000
DTSTAMP:20260422T080344
CREATED:20240905T123251Z
LAST-MODIFIED:20240929T073304Z
UID:9148-1730557800-1730565000@www.mandurahchoral.org.au
SUMMARY:Music of Stage and Screen
DESCRIPTION:
URL:https://www.mandurahchoral.org.au/index.php/event/music-of-stage-and-screen/
LOCATION:Mandurah Seniors and Community Centre\, 41 Ormsby Terrace\, Mandurah\, WA\, 6210\, Australia
ATTACH;FMTTYPE=image/png:https://www.mandurahchoral.org.au/wp-content/uploads/Concert-image-3.png
END:VEVENT
BEGIN:VEVENT
DTSTART;TZID=Australia/Perth:20240505T143000
DTEND;TZID=Australia/Perth:20240505T170000
DTSTAMP:20260422T080344
CREATED:20240425T035518Z
LAST-MODIFIED:20240425T035712Z
UID:8818-1714919400-1714928400@www.mandurahchoral.org.au
SUMMARY:Music All Around Us
DESCRIPTION:Everywhere we go\, beautiful music is all around us\, from stirring spirituals and inspirational classical arrangements to the comfort of much loved favourites. Join us for a celebration of the most glorious and uplifting choral music.\nFeaturing the 45 member Mandurah City Choral Society led by Christopher Ryland and accompanied by Alexander Scutt. \nSpecial guest cellist Jill Cooper. \nDoors open at 2:00pm for a 2:30pm concert start. Light afternoon tea provided at interval. \nBuy tickets online here or at the door.
URL:https://www.mandurahchoral.org.au/index.php/event/music-all-around-us/
LOCATION:Mandurah Seniors and Community Centre\, 41 Ormsby Terrace\, Mandurah\, WA\, 6210\, Australia
ATTACH;FMTTYPE=image/png:https://www.mandurahchoral.org.au/wp-content/uploads/feature-e1714017388276.png
END:VEVENT
BEGIN:VEVENT
DTSTART;TZID=Australia/Perth:20231210T143000
DTEND;TZID=Australia/Perth:20231210T170000
DTSTAMP:20260422T080344
CREATED:20230830T115427Z
LAST-MODIFIED:20231207T040925Z
UID:7843-1702218600-1702227600@www.mandurahchoral.org.au
SUMMARY:A Christmas Celebration
DESCRIPTION:Join us for a selection of beautiful Christmas music\, from classic carols to sentimental movie favourites.  Tickets available at the door or online here.
URL:https://www.mandurahchoral.org.au/index.php/event/a-christmas-celebration/
LOCATION:Mandurah Seniors and Community Centre\, 41 Ormsby Terrace\, Mandurah\, WA\, 6210\, Australia
END:VEVENT
BEGIN:VEVENT
DTSTART;TZID=Australia/Perth:20230827T143000
DTEND;TZID=Australia/Perth:20230827T170000
DTSTAMP:20260422T080344
CREATED:20230803T131257Z
LAST-MODIFIED:20230803T131855Z
UID:7660-1693146600-1693155600@www.mandurahchoral.org.au
SUMMARY:Concert: Pirates\, Gondoliers and Merry Mayhem
DESCRIPTION:Join Mandurah City Choral Society for an afternoon of fun with a selection of songs from Gilbert & Sullivan. Shows featured include The Pirates of Penzance\, The Gondoliers\, H.M.S. Pinafore and The Mikado.  View the concert poster here. \nBuy tickets online here \n  \n 
URL:https://www.mandurahchoral.org.au/index.php/event/concert-pirates-gondoliers-and-merry-mayhem/
LOCATION:Mandurah Seniors and Community Centre\, 41 Ormsby Terrace\, Mandurah\, WA\, 6210\, Australia
ATTACH;FMTTYPE=image/png:https://www.mandurahchoral.org.au/wp-content/uploads/Banner.png
END:VEVENT
BEGIN:VEVENT
DTSTART;TZID=Australia/Perth:20230521T143000
DTEND;TZID=Australia/Perth:20230521T170000
DTSTAMP:20260422T080344
CREATED:20230503T005449Z
LAST-MODIFIED:20230503T005626Z
UID:7164-1684679400-1684688400@www.mandurahchoral.org.au
SUMMARY:Concert: Musicals of Stage & Screen
DESCRIPTION:Join Mandurah City Choral Society as we celebrate the sound of musicals! Featuring the music of Rodgers and Hammerstein and Gershwin and from shows including Les Misérables\, My Fair Lady\, Oliver!\, A Chorus Line\, The Lion King and many more. \n\nDATE: Sunday 21 May 2023 2:30 PM \n\n\nLOCATION: Mandurah Seniors & Community Centre\, 41 Ormsby Terrace\, Mandurah WA 6210 \n\nTickets available online here or at the door.
URL:https://www.mandurahchoral.org.au/index.php/event/concert-musicals-of-stage-screen/
LOCATION:Mandurah Seniors and Community Centre\, 41 Ormsby Terrace\, Mandurah\, WA\, 6210\, Australia
ATTACH;FMTTYPE=image/png:https://www.mandurahchoral.org.au/wp-content/uploads/header2.png
END:VEVENT
BEGIN:VEVENT
DTSTART;TZID=Australia/Perth:20221211T143000
DTEND;TZID=Australia/Perth:20221211T170000
DTSTAMP:20260422T080344
CREATED:20221116T095420Z
LAST-MODIFIED:20221116T110019Z
UID:6360-1670769000-1670778000@www.mandurahchoral.org.au
SUMMARY:2022 Mandurah Christmas Concert
DESCRIPTION:Click here to book now!\nMandurah City Choral Society invite you to our Christmas Concert featuring a range of favourite carols to welcome in the festive season. \nEvent Details\nSunday\, 11 December 2022  at 2:30pm (Doors open 2pm for 2:30pm start)\nChrist’s Church Sholl Street\, Mandurah\n(this venue has wheelchair access) \nMusic Director  Christopher Ryland \nTickets\n(includes light afternoon tea) \nAdults           $30\nChildren  $10\nConcession  $25\nFamily  $75 \nFamily ticket covers 2 adults\, 2 children.  Discounts available for groups of 8+ \nPay EFTPOS/cash at the door or book online at www.trybooking.com/CECHG
URL:https://www.mandurahchoral.org.au/index.php/event/2022-mandurah-christmas-concert/
LOCATION:Christ’s Church Mandurah\, Sholl St\, Mandurah\, WA\, 6210\, Australia
ATTACH;FMTTYPE=image/png:https://www.mandurahchoral.org.au/wp-content/uploads/Mandurah-square.png
END:VEVENT
BEGIN:VEVENT
DTSTART;TZID=Australia/Perth:20221209T193000
DTEND;TZID=Australia/Perth:20221209T203000
DTSTAMP:20260422T080344
CREATED:20221116T100838Z
LAST-MODIFIED:20221116T105946Z
UID:6365-1670614200-1670617800@www.mandurahchoral.org.au
SUMMARY:2022 Bunbury Christmas Concert
DESCRIPTION:Click here to book now!\nMandurah City Choral Society invite you to our Christmas Concert featuring a range of favourite carols to welcome in the festive season. \nEvent Details\nFriday\, 9 December 2022  at 7:30pm (Doors open 7pm for 7:30pm start)\nSt Boniface Anglican Cathedral 33 Parkfield Street\, Bunbury\n(this venue has wheelchair access) \nMusic Director  Christopher Ryland \nTickets\nAdults                   $25\nChildren (12-17) $10\nConcession          $20\nChildren under 12 free \nPay EFTPOS/cash at the door or book online at www.trybooking.com/CECHF
URL:https://www.mandurahchoral.org.au/index.php/event/2022-bunbury-christmas-concert/
LOCATION:St Boniface Anglican Cathedral\, 33 Parkfield Street\, Bunbury\, Western Australia\, 6230
ATTACH;FMTTYPE=image/png:https://www.mandurahchoral.org.au/wp-content/uploads/Bunbury-square.png
END:VEVENT
BEGIN:VEVENT
DTSTART;TZID=Australia/Perth:20220828T143000
DTEND;TZID=Australia/Perth:20220828T170000
DTSTAMP:20260422T080344
CREATED:20220705T234409Z
LAST-MODIFIED:20220705T235915Z
UID:5634-1661697000-1661706000@www.mandurahchoral.org.au
SUMMARY:Songs of Jubilation
DESCRIPTION:Click here to book now!\nMandurah City Choral Society invite you to our Winter concert: Songs of Jubilation.  We will be singing beautiful music inspired by the world we can again visit such as What a Wonderful World\, Moon River and Into the West.  We will also celebrate Queen Elizabeth’s II Platinum Anniversary year with coronation music including Parry’s I Was Glad and Handel’s Zadok the Priest.  In recognition of other world events\, we will sing John Rutter’s arrangement A Ukrainian Prayer raising money for the Ukraine Crisis Appeal. \nDuring this event we will be raising money for the Ukraine Crisis Appeal. \nEvent Details\nSunday\, 28 August 2022  at 2:30pm (Doors open 2pm for 2:30pm start)\nChrist’s Church Sholl Street\, Mandurah\n(this venue has wheelchair access) \nMusic Director  Nicolas Freeland\n Accompanist  Christopher Ryland \nTickets\n(includes light afternoon tea) \nAdults           $35\nChildren  $15\nConcession  $30\nFamily  $90 \nFamily ticket covers 2 adults\, 2 children.  Discounts available for groups of 8+ \nPay EFTPOS/cash at the door or book online at www.trybooking.com/CAXNA
URL:https://www.mandurahchoral.org.au/index.php/event/songs-of-jubilation/
LOCATION:Christ’s Church Mandurah\, Sholl St\, Mandurah\, WA\, 6210\, Australia
ATTACH;FMTTYPE=image/png:https://www.mandurahchoral.org.au/wp-content/uploads/Concert-image-DL.png
END:VEVENT
BEGIN:VEVENT
DTSTART;TZID=Australia/Perth:20211212T143000
DTEND;TZID=Australia/Perth:20211212T170000
DTSTAMP:20260422T080344
CREATED:20210705T035843Z
LAST-MODIFIED:20210705T035843Z
UID:4112-1639319400-1639328400@www.mandurahchoral.org.au
SUMMARY:Christmas Concert Mandurah
DESCRIPTION:
URL:https://www.mandurahchoral.org.au/index.php/event/christmas-concert-mandurah/
LOCATION:Mandurah Seniors and Community Centre\, 41 Ormsby Terrace\, Mandurah\, WA\, 6210\, Australia
END:VEVENT
BEGIN:VEVENT
DTSTART;TZID=Australia/Perth:20211210T190000
DTEND;TZID=Australia/Perth:20211210T210000
DTSTAMP:20260422T080344
CREATED:20210705T040219Z
LAST-MODIFIED:20210705T040219Z
UID:4115-1639162800-1639170000@www.mandurahchoral.org.au
SUMMARY:Christmas Concert Perth
DESCRIPTION:
URL:https://www.mandurahchoral.org.au/index.php/event/christmas-concert-perth/
LOCATION:St Mary’s Anglican Church\, 9 Ridge St\, South Perth\, WA\, 6151\, Australia
END:VEVENT
BEGIN:VEVENT
DTSTART;TZID=Australia/Perth:20210719T190000
DTEND;TZID=Australia/Perth:20210719T213000
DTSTAMP:20260422T080344
CREATED:20210705T040746Z
LAST-MODIFIED:20210705T040746Z
UID:4118-1626721200-1626730200@www.mandurahchoral.org.au
SUMMARY:Regular rehearsal
DESCRIPTION:
URL:https://www.mandurahchoral.org.au/index.php/event/regular-rehearsal/
LOCATION:Uniting Church\, 156 Pinjarra Road\, Mandurah\, WA\, 6210\, Australia
END:VEVENT
BEGIN:VEVENT
DTSTART;TZID=Australia/Perth:20210606T143000
DTEND;TZID=Australia/Perth:20210606T163000
DTSTAMP:20260422T080344
CREATED:20210510T044451Z
LAST-MODIFIED:20210510T044451Z
UID:4000-1622989800-1622997000@www.mandurahchoral.org.au
SUMMARY:Mostly Mozart Concert
DESCRIPTION:Sunday\, 6 June 2021 | 2:30pm \nSt Patrick’s Basilica Fremantle \nThe Mandurah City Choral Society welcomes you to listen to the glorious music of Mozart’s Coronation Mass and a selection of other choral works in the delightful St Patrick’s Basilica in Fremantle. \nDirector Eva-Marie Middleton   |   Featuring Organist Dominic Perissinotto \nBook online here\nTickets \nAdults           $35  Children  $10 \nConcession  $30   Family  $70 \nFamily ticket covers 2 adults\, 2 children.  Discounts available for groups of 8+
URL:https://www.mandurahchoral.org.au/index.php/event/mostly-mozart-concert/
LOCATION:St Patrick’s Basilica\, 47 Adelaide St\, Fremantle\, WA\, 6160\, Australia
END:VEVENT
BEGIN:VEVENT
DTSTART;TZID=Australia/Perth:20201011T143000
DTEND;TZID=Australia/Perth:20201011T153000
DTSTAMP:20260422T080344
CREATED:20200829T123205Z
LAST-MODIFIED:20200829T123349Z
UID:3440-1602426600-1602430200@www.mandurahchoral.org.au
SUMMARY:Music's Always There | Concert
DESCRIPTION:Mandurah City Choral Society invite you to our Spring concert\nSunday 11 October 2020 | 2:30pm | Mandurah Seniors and Community Centre\n one hour concert  |  socially distanced  |  no interval \nTickets at the door: \n\nAdults & concession $25\nChildren free\n\nMandurah Seniors and Community Centre\n41 Ormsby Terrace\, Mandurah \nDoors open 2:00pm for a 2:30pm start \nView poster
URL:https://www.mandurahchoral.org.au/index.php/event/musics-always-there-concert/
LOCATION:Mandurah Seniors and Community Centre\, 41 Ormsby Terrace\, Mandurah\, WA\, 6210\, Australia
ATTACH;FMTTYPE=image/png:https://www.mandurahchoral.org.au/wp-content/uploads/Concert-promo-2.png
END:VEVENT
BEGIN:VEVENT
DTSTART;TZID=Australia/Perth:20200517T143000
DTEND;TZID=Australia/Perth:20200517T163000
DTSTAMP:20260422T080344
CREATED:20200124T003437Z
LAST-MODIFIED:20200124T003458Z
UID:2709-1589725800-1589733000@www.mandurahchoral.org.au
SUMMARY:Concert: Music to Sooth the Soul
DESCRIPTION:
URL:https://www.mandurahchoral.org.au/index.php/event/concert-music-to-sooth-the-soul/
LOCATION:WA
END:VEVENT
BEGIN:VEVENT
DTSTART;TZID=Australia/Perth:20200511T191500
DTEND;TZID=Australia/Perth:20200511T213000
DTSTAMP:20260422T080344
CREATED:20200124T010251Z
LAST-MODIFIED:20200124T010251Z
UID:2740-1589224500-1589232600@www.mandurahchoral.org.au
SUMMARY:Rehearsal
DESCRIPTION:Mandurah City Choral Society rehearses Monday nights\, 7:15pm-9:30pm.  If you are interested in potentially joining the choir\, feel free to come along and listen.
URL:https://www.mandurahchoral.org.au/index.php/event/rehearsal-12/
LOCATION:Uniting Church\, 156 Pinjarra Road\, Mandurah\, WA\, 6210\, Australia
END:VEVENT
BEGIN:VEVENT
DTSTART;TZID=Australia/Perth:20200504T191500
DTEND;TZID=Australia/Perth:20200504T213000
DTSTAMP:20260422T080344
CREATED:20200124T010139Z
LAST-MODIFIED:20200124T010139Z
UID:2738-1588619700-1588627800@www.mandurahchoral.org.au
SUMMARY:Rehearsal
DESCRIPTION:Mandurah City Choral Society rehearses Monday nights\, 7:15pm-9:30pm.  If you are interested in potentially joining the choir\, feel free to come along and listen.
URL:https://www.mandurahchoral.org.au/index.php/event/rehearsal-11/
LOCATION:Uniting Church\, 156 Pinjarra Road\, Mandurah\, WA\, 6210\, Australia
END:VEVENT
BEGIN:VEVENT
DTSTART;TZID=Australia/Perth:20200420T191500
DTEND;TZID=Australia/Perth:20200420T213000
DTSTAMP:20260422T080344
CREATED:20200124T005938Z
LAST-MODIFIED:20200124T005938Z
UID:2734-1587410100-1587418200@www.mandurahchoral.org.au
SUMMARY:Rehearsal
DESCRIPTION:Mandurah City Choral Society rehearses Monday nights\, 7:15pm-9:30pm.  If you are interested in potentially joining the choir\, feel free to come along and listen.
URL:https://www.mandurahchoral.org.au/index.php/event/rehearsal-10/
LOCATION:Uniting Church\, 156 Pinjarra Road\, Mandurah\, WA\, 6210\, Australia
END:VEVENT
BEGIN:VEVENT
DTSTART;TZID=Australia/Perth:20200406T191500
DTEND;TZID=Australia/Perth:20200406T213000
DTSTAMP:20260422T080344
CREATED:20200124T005807Z
LAST-MODIFIED:20200124T005807Z
UID:2730-1586200500-1586208600@www.mandurahchoral.org.au
SUMMARY:Rehearsal
DESCRIPTION:Mandurah City Choral Society rehearses Monday nights\, 7:15pm-9:30pm.  If you are interested in potentially joining the choir\, feel free to come along and listen.
URL:https://www.mandurahchoral.org.au/index.php/event/rehearsal-9/
LOCATION:Uniting Church\, 156 Pinjarra Road\, Mandurah\, WA\, 6210\, Australia
END:VEVENT
BEGIN:VEVENT
DTSTART;TZID=Australia/Perth:20200330T191500
DTEND;TZID=Australia/Perth:20200330T213000
DTSTAMP:20260422T080344
CREATED:20200124T005718Z
LAST-MODIFIED:20200124T005718Z
UID:2728-1585595700-1585603800@www.mandurahchoral.org.au
SUMMARY:Rehearsal
DESCRIPTION:Mandurah City Choral Society rehearses Monday nights\, 7:15pm-9:30pm.  If you are interested in potentially joining the choir\, feel free to come along and listen.
URL:https://www.mandurahchoral.org.au/index.php/event/rehearsal-8/
LOCATION:Uniting Church\, 156 Pinjarra Road\, Mandurah\, WA\, 6210\, Australia
END:VEVENT
BEGIN:VEVENT
DTSTART;TZID=Australia/Perth:20200323T191500
DTEND;TZID=Australia/Perth:20200323T213000
DTSTAMP:20260422T080344
CREATED:20200124T005619Z
LAST-MODIFIED:20200124T005620Z
UID:2726-1584990900-1584999000@www.mandurahchoral.org.au
SUMMARY:Rehearsal
DESCRIPTION:Mandurah City Choral Society rehearses Monday nights\, 7:15pm-9:30pm.  If you are interested in potentially joining the choir\, feel free to come along and listen.
URL:https://www.mandurahchoral.org.au/index.php/event/rehearsal-7/
LOCATION:Uniting Church\, 156 Pinjarra Road\, Mandurah\, WA\, 6210\, Australia
END:VEVENT
BEGIN:VEVENT
DTSTART;TZID=Australia/Perth:20200316T191500
DTEND;TZID=Australia/Perth:20200316T213000
DTSTAMP:20260422T080344
CREATED:20200124T005536Z
LAST-MODIFIED:20200124T005536Z
UID:2724-1584386100-1584394200@www.mandurahchoral.org.au
SUMMARY:Rehearsal
DESCRIPTION:Mandurah City Choral Society rehearses Monday nights\, 7:15pm-9:30pm.  If you are interested in potentially joining the choir\, feel free to come along and listen.
URL:https://www.mandurahchoral.org.au/index.php/event/rehearsal-6/
LOCATION:Uniting Church\, 156 Pinjarra Road\, Mandurah\, WA\, 6210\, Australia
END:VEVENT
BEGIN:VEVENT
DTSTART;TZID=Australia/Perth:20200309T191500
DTEND;TZID=Australia/Perth:20200309T213000
DTSTAMP:20260422T080344
CREATED:20200124T005445Z
LAST-MODIFIED:20200124T005445Z
UID:2722-1583781300-1583789400@www.mandurahchoral.org.au
SUMMARY:Rehearsal
DESCRIPTION:Mandurah City Choral Society rehearses Monday nights\, 7:15pm-9:30pm.  If you are interested in potentially joining the choir\, feel free to come along and listen.
URL:https://www.mandurahchoral.org.au/index.php/event/rehearsal-5/
LOCATION:Uniting Church\, 156 Pinjarra Road\, Mandurah\, WA\, 6210\, Australia
END:VEVENT
BEGIN:VEVENT
DTSTART;TZID=Australia/Perth:20200302T191500
DTEND;TZID=Australia/Perth:20200302T213000
DTSTAMP:20260422T080344
CREATED:20200124T005352Z
LAST-MODIFIED:20200124T005352Z
UID:2720-1583176500-1583184600@www.mandurahchoral.org.au
SUMMARY:Rehearsal (public holiday TBC)
DESCRIPTION:Mandurah City Choral Society rehearses Monday nights\, 7:15pm-9:30pm.  If you are interested in potentially joining the choir\, feel free to come along and listen.
URL:https://www.mandurahchoral.org.au/index.php/event/rehearsal-public-holiday-tbc/
LOCATION:Uniting Church\, 156 Pinjarra Road\, Mandurah\, WA\, 6210\, Australia
END:VEVENT
BEGIN:VEVENT
DTSTART;TZID=Australia/Perth:20200224T191500
DTEND;TZID=Australia/Perth:20200224T213000
DTSTAMP:20260422T080344
CREATED:20200124T005244Z
LAST-MODIFIED:20200124T005244Z
UID:2718-1582571700-1582579800@www.mandurahchoral.org.au
SUMMARY:Rehearsal
DESCRIPTION:Mandurah City Choral Society rehearses Monday nights\, 7:15pm-9:30pm.  If you are interested in potentially joining the choir\, feel free to come along and listen.
URL:https://www.mandurahchoral.org.au/index.php/event/rehearsal-4/
LOCATION:Uniting Church\, 156 Pinjarra Road\, Mandurah\, WA\, 6210\, Australia
END:VEVENT
BEGIN:VEVENT
DTSTART;TZID=Australia/Perth:20200217T191500
DTEND;TZID=Australia/Perth:20200217T213000
DTSTAMP:20260422T080344
CREATED:20200124T005138Z
LAST-MODIFIED:20200124T005138Z
UID:2716-1581966900-1581975000@www.mandurahchoral.org.au
SUMMARY:Rehearsal
DESCRIPTION:Mandurah City Choral Society rehearses Monday nights\, 7:15pm-9:30pm.  If you are interested in potentially joining the choir\, feel free to come along and listen.
URL:https://www.mandurahchoral.org.au/index.php/event/rehearsal-3/
LOCATION:Uniting Church\, 156 Pinjarra Road\, Mandurah\, WA\, 6210\, Australia
END:VEVENT
BEGIN:VEVENT
DTSTART;TZID=Australia/Perth:20200210T191500
DTEND;TZID=Australia/Perth:20200210T213000
DTSTAMP:20260422T080344
CREATED:20200124T005013Z
LAST-MODIFIED:20200124T005013Z
UID:2714-1581362100-1581370200@www.mandurahchoral.org.au
SUMMARY:Rehearsal
DESCRIPTION:Mandurah City Choral Society rehearses Monday nights\, 7:15pm-9:30pm.  If you are interested in potentially joining the choir\, feel free to come along and listen.
URL:https://www.mandurahchoral.org.au/index.php/event/rehearsal-2/
LOCATION:Uniting Church\, 156 Pinjarra Road\, Mandurah\, WA\, 6210\, Australia
END:VEVENT
BEGIN:VEVENT
DTSTART;TZID=Australia/Perth:20200203T191500
DTEND;TZID=Australia/Perth:20200203T213000
DTSTAMP:20260422T080344
CREATED:20200124T003913Z
LAST-MODIFIED:20200124T003913Z
UID:2711-1580757300-1580765400@www.mandurahchoral.org.au
SUMMARY:Rehearsal
DESCRIPTION:Mandurah City Choral Society rehearses Monday nights\, 7:15pm-9:30pm.  If you are interested in potentially joining the choir\, feel free to come along and listen.
URL:https://www.mandurahchoral.org.au/index.php/event/rehearsal/
LOCATION:Uniting Church\, 156 Pinjarra Road\, Mandurah\, WA\, 6210\, Australia
END:VEVENT
END:VCALENDAR