BEGIN:VCALENDAR
VERSION:2.0
PRODID:-//Mandurah City Choral Society - ECPv6.15.20//NONSGML v1.0//EN
CALSCALE:GREGORIAN
METHOD:PUBLISH
X-WR-CALNAME:Mandurah City Choral Society
X-ORIGINAL-URL:https://www.mandurahchoral.org.au
X-WR-CALDESC:Events for Mandurah City Choral Society
REFRESH-INTERVAL;VALUE=DURATION:PT1H
X-Robots-Tag:noindex
X-PUBLISHED-TTL:PT1H
BEGIN:VTIMEZONE
TZID:Australia/Perth
BEGIN:STANDARD
TZOFFSETFROM:+0800
TZOFFSETTO:+0800
TZNAME:AWST
DTSTART:20190101T000000
END:STANDARD
END:VTIMEZONE
BEGIN:VEVENT
DTSTART;TZID=Australia/Perth:20200316T191500
DTEND;TZID=Australia/Perth:20200316T213000
DTSTAMP:20260423T065937
CREATED:20200124T005536Z
LAST-MODIFIED:20200124T005536Z
UID:2724-1584386100-1584394200@www.mandurahchoral.org.au
SUMMARY:Rehearsal
DESCRIPTION:Mandurah City Choral Society rehearses Monday nights\, 7:15pm-9:30pm.  If you are interested in potentially joining the choir\, feel free to come along and listen.
URL:https://www.mandurahchoral.org.au/index.php/event/rehearsal-6/
LOCATION:Uniting Church\, 156 Pinjarra Road\, Mandurah\, WA\, 6210\, Australia
END:VEVENT
BEGIN:VEVENT
DTSTART;TZID=Australia/Perth:20200309T191500
DTEND;TZID=Australia/Perth:20200309T213000
DTSTAMP:20260423T065937
CREATED:20200124T005445Z
LAST-MODIFIED:20200124T005445Z
UID:2722-1583781300-1583789400@www.mandurahchoral.org.au
SUMMARY:Rehearsal
DESCRIPTION:Mandurah City Choral Society rehearses Monday nights\, 7:15pm-9:30pm.  If you are interested in potentially joining the choir\, feel free to come along and listen.
URL:https://www.mandurahchoral.org.au/index.php/event/rehearsal-5/
LOCATION:Uniting Church\, 156 Pinjarra Road\, Mandurah\, WA\, 6210\, Australia
END:VEVENT
BEGIN:VEVENT
DTSTART;TZID=Australia/Perth:20200302T191500
DTEND;TZID=Australia/Perth:20200302T213000
DTSTAMP:20260423T065937
CREATED:20200124T005352Z
LAST-MODIFIED:20200124T005352Z
UID:2720-1583176500-1583184600@www.mandurahchoral.org.au
SUMMARY:Rehearsal (public holiday TBC)
DESCRIPTION:Mandurah City Choral Society rehearses Monday nights\, 7:15pm-9:30pm.  If you are interested in potentially joining the choir\, feel free to come along and listen.
URL:https://www.mandurahchoral.org.au/index.php/event/rehearsal-public-holiday-tbc/
LOCATION:Uniting Church\, 156 Pinjarra Road\, Mandurah\, WA\, 6210\, Australia
END:VEVENT
BEGIN:VEVENT
DTSTART;TZID=Australia/Perth:20200224T191500
DTEND;TZID=Australia/Perth:20200224T213000
DTSTAMP:20260423T065937
CREATED:20200124T005244Z
LAST-MODIFIED:20200124T005244Z
UID:2718-1582571700-1582579800@www.mandurahchoral.org.au
SUMMARY:Rehearsal
DESCRIPTION:Mandurah City Choral Society rehearses Monday nights\, 7:15pm-9:30pm.  If you are interested in potentially joining the choir\, feel free to come along and listen.
URL:https://www.mandurahchoral.org.au/index.php/event/rehearsal-4/
LOCATION:Uniting Church\, 156 Pinjarra Road\, Mandurah\, WA\, 6210\, Australia
END:VEVENT
BEGIN:VEVENT
DTSTART;TZID=Australia/Perth:20200217T191500
DTEND;TZID=Australia/Perth:20200217T213000
DTSTAMP:20260423T065937
CREATED:20200124T005138Z
LAST-MODIFIED:20200124T005138Z
UID:2716-1581966900-1581975000@www.mandurahchoral.org.au
SUMMARY:Rehearsal
DESCRIPTION:Mandurah City Choral Society rehearses Monday nights\, 7:15pm-9:30pm.  If you are interested in potentially joining the choir\, feel free to come along and listen.
URL:https://www.mandurahchoral.org.au/index.php/event/rehearsal-3/
LOCATION:Uniting Church\, 156 Pinjarra Road\, Mandurah\, WA\, 6210\, Australia
END:VEVENT
BEGIN:VEVENT
DTSTART;TZID=Australia/Perth:20200210T191500
DTEND;TZID=Australia/Perth:20200210T213000
DTSTAMP:20260423T065937
CREATED:20200124T005013Z
LAST-MODIFIED:20200124T005013Z
UID:2714-1581362100-1581370200@www.mandurahchoral.org.au
SUMMARY:Rehearsal
DESCRIPTION:Mandurah City Choral Society rehearses Monday nights\, 7:15pm-9:30pm.  If you are interested in potentially joining the choir\, feel free to come along and listen.
URL:https://www.mandurahchoral.org.au/index.php/event/rehearsal-2/
LOCATION:Uniting Church\, 156 Pinjarra Road\, Mandurah\, WA\, 6210\, Australia
END:VEVENT
BEGIN:VEVENT
DTSTART;TZID=Australia/Perth:20200203T191500
DTEND;TZID=Australia/Perth:20200203T213000
DTSTAMP:20260423T065937
CREATED:20200124T003913Z
LAST-MODIFIED:20200124T003913Z
UID:2711-1580757300-1580765400@www.mandurahchoral.org.au
SUMMARY:Rehearsal
DESCRIPTION:Mandurah City Choral Society rehearses Monday nights\, 7:15pm-9:30pm.  If you are interested in potentially joining the choir\, feel free to come along and listen.
URL:https://www.mandurahchoral.org.au/index.php/event/rehearsal/
LOCATION:Uniting Church\, 156 Pinjarra Road\, Mandurah\, WA\, 6210\, Australia
END:VEVENT
END:VCALENDAR