BEGIN:VCALENDAR
VERSION:2.0
PRODID:-//Mandurah City Choral Society - ECPv6.15.20//NONSGML v1.0//EN
CALSCALE:GREGORIAN
METHOD:PUBLISH
X-ORIGINAL-URL:https://www.mandurahchoral.org.au
X-WR-CALDESC:Events for Mandurah City Choral Society
REFRESH-INTERVAL;VALUE=DURATION:PT1H
X-Robots-Tag:noindex
X-PUBLISHED-TTL:PT1H
BEGIN:VTIMEZONE
TZID:Australia/Perth
BEGIN:STANDARD
TZOFFSETFROM:+0800
TZOFFSETTO:+0800
TZNAME:AWST
DTSTART:20240101T000000
END:STANDARD
END:VTIMEZONE
BEGIN:VEVENT
DTSTART;TZID=Australia/Perth:20251207T143000
DTEND;TZID=Australia/Perth:20251207T163000
DTSTAMP:20260422T044013
CREATED:20240905T123726Z
LAST-MODIFIED:20251201T140330Z
UID:9158-1765117800-1765125000@www.mandurahchoral.org.au
SUMMARY:Christmas Concert 2025
DESCRIPTION:
URL:https://www.mandurahchoral.org.au/index.php/event/christmas-concert-2025/
LOCATION:Christ’s Church Mandurah\, Sholl St\, Mandurah\, WA\, 6210\, Australia
END:VEVENT
END:VCALENDAR